BEGIN:VCALENDAR
VERSION:2.0
PRODID:-//Squarespace Inc/Squarespace 6//v6//EN
BEGIN:VEVENT
UID:57fadda99f7456d89b1c52f0@squarespace.com
DTSTAMP:20161011T113732Z
DTSTART:20161016T110000Z
DTEND:20161016T190000Z
SUMMARY:Orchid Crawl
END:VEVENT
END:VCALENDAR
