BEGIN:VCALENDAR
VERSION:2.0
PRODID:-//Squarespace Inc/Squarespace 6//v6//EN
BEGIN:VEVENT
UID:57fade249f7456d89b1c5708@squarespace.com
DTSTAMP:20161010T093920Z
DTSTART:20161030T113000Z
DTEND:20161030T203000Z
SUMMARY:Bunnings BBQ Seven Hills
END:VEVENT
END:VCALENDAR
