BEGIN:VCALENDAR
VERSION:2.0
PRODID:-//Squarespace Inc/Squarespace 6//v6//EN
BEGIN:VEVENT
UID:57fadd1eebbd1a12e8bfffb1@squarespace.com
DTSTAMP:20161017T062348Z
DTSTART:20161103T223000Z
DTEND:20161104T013000Z
SUMMARY:Club meeting
END:VEVENT
END:VCALENDAR
