BEGIN:VCALENDAR
VERSION:2.0
PRODID:-//Squarespace Inc/Squarespace 6//v6//EN
BEGIN:VEVENT
UID:57fae0429f7456d89b1c67ed@squarespace.com
DTSTAMP:20161016T100512Z
DTSTART:20161201T233000Z
DTEND:20161202T020000Z
SUMMARY:Annual Christmas Party
END:VEVENT
END:VCALENDAR
