BEGIN:VCALENDAR
VERSION:2.0
PRODID:-//Squarespace Inc/Squarespace 6//v6//EN
BEGIN:VEVENT
UID:58cb9d3ac534a5c4f2f1f125@squarespace.com
DTSTAMP:20170317T082442Z
DTSTART:20171005T223000Z
DTEND:20171006T013000Z
SUMMARY:October Club Meeting
END:VEVENT
END:VCALENDAR
