BEGIN:VCALENDAR
VERSION:2.0
PRODID:-//Squarespace Inc/Squarespace 6//v6//EN
BEGIN:VEVENT
UID:58cb9d52c534a5c4f2f1f1ad@squarespace.com
DTSTAMP:20170317T082507Z
DTSTART:20171102T223000Z
DTEND:20171103T013000Z
SUMMARY:November Club Meeting
END:VEVENT
END:VCALENDAR
