BEGIN:VCALENDAR
VERSION:2.0
PRODID:-//Squarespace Inc/Squarespace 6//v6//EN
BEGIN:VEVENT
UID:58cb9d6bc534a5c4f2f1f26a@squarespace.com
DTSTAMP:20170317T082605Z
DTSTART:20171207T233000Z
DTEND:20171208T023000Z
SUMMARY:Annual Christmas Party and Presentation Night ! 
END:VEVENT
END:VCALENDAR
