BEGIN:VCALENDAR
VERSION:2.0
PRODID:-//Squarespace Inc/Squarespace 6//v6//EN
BEGIN:VEVENT
UID:583cae77bebafbc5c11d9875@squarespace.com
DTSTAMP:20161128T222601Z
DTSTART:20170203T003000Z
DTEND:20170203T020000Z
SUMMARY:Club Meeting
END:VEVENT
END:VCALENDAR
