BEGIN:VCALENDAR
VERSION:2.0
PRODID:-//Squarespace Inc/Squarespace 6//v6//EN
BEGIN:VEVENT
UID:588edc13197aeae36a6de17d@squarespace.com
DTSTAMP:20170130T062706Z
DTSTART:20170311T120000Z
DTEND:20170311T203000Z
SUMMARY:Bunnings BBQ- Volunteers needed !  
END:VEVENT
END:VCALENDAR
