BEGIN:VCALENDAR
VERSION:2.0
PRODID:-//Squarespace Inc/Squarespace 6//v6//EN
BEGIN:VEVENT
UID:58cb9a2920099ef564bbf129@squarespace.com
DTSTAMP:20170317T081407Z
DTSTART:20170406T223000Z
DTEND:20170407T013000Z
SUMMARY:April Club Meeting
END:VEVENT
END:VCALENDAR
