BEGIN:VCALENDAR
VERSION:2.0
PRODID:-//Squarespace Inc/Squarespace 6//v6//EN
BEGIN:VEVENT
UID:58cb9b31ff7c503c5717c6df@squarespace.com
DTSTAMP:20170317T094101Z
DTSTART:20170408T123000Z
DTEND:20170408T193000Z
SUMMARY:St Marys Display and Plant Sales
END:VEVENT
END:VCALENDAR
