BEGIN:VCALENDAR
VERSION:2.0
PRODID:-//Squarespace Inc/Squarespace 6//v6//EN
BEGIN:VEVENT
UID:58cb9ba9f7e0abb8c2a4fe72@squarespace.com
DTSTAMP:20170519T025959Z
DTSTART:20170526T130000Z
DTEND:20170528T190000Z
SUMMARY:Orchids Out West
END:VEVENT
END:VCALENDAR
