BEGIN:VCALENDAR
VERSION:2.0
PRODID:-//Squarespace Inc/Squarespace 6//v6//EN
BEGIN:VEVENT
UID:58cb9b10ff7c503c5717c622@squarespace.com
DTSTAMP:20170519T030414Z
DTSTART:20170601T223000Z
DTEND:20170602T013000Z
SUMMARY:June Club Meeting
END:VEVENT
END:VCALENDAR
