BEGIN:VCALENDAR
VERSION:2.0
PRODID:-//Squarespace Inc/Squarespace 6//v6//EN
BEGIN:VEVENT
UID:58cb9c07b8a79b53354989ba@squarespace.com
DTSTAMP:20180215T102631Z
DTSTART:20180616T130000Z
DTEND:20180617T200000Z
SUMMARY:Club Winter Show
END:VEVENT
END:VCALENDAR
