BEGIN:VCALENDAR
VERSION:2.0
PRODID:-//Squarespace Inc/Squarespace 6//v6//EN
BEGIN:VEVENT
UID:591e5dc0bf629a11bf883b8a@squarespace.com
DTSTAMP:20170519T025401Z
DTSTART:20170624T113000Z
DTEND:20170624T203000Z
SUMMARY:Mingara Bus and Royale Orchids Bus Trip
END:VEVENT
END:VCALENDAR
