BEGIN:VCALENDAR
VERSION:2.0
PRODID:-//Squarespace Inc/Squarespace 6//v6//EN
BEGIN:VEVENT
UID:58cb9ce0c534a5c4f2f1eebe@squarespace.com
DTSTAMP:20170317T082920Z
DTSTART:20170706T223000Z
DTEND:20170707T013000Z
SUMMARY:July Club Meeting and AGM
END:VEVENT
END:VCALENDAR
