BEGIN:VCALENDAR
VERSION:2.0
PRODID:-//Squarespace Inc/Squarespace 6//v6//EN
BEGIN:VEVENT
UID:58cb9c82e58c62fbedae7429@squarespace.com
DTSTAMP:20170317T082214Z
DTSTART:20170818T130000Z
DTEND:20170820T190000Z
SUMMARY:St Ives Orchid Show
END:VEVENT
END:VCALENDAR
