BEGIN:VCALENDAR
VERSION:2.0
PRODID:-//Squarespace Inc/Squarespace 6//v6//EN
BEGIN:VEVENT
UID:58cb9d04c534a5c4f2f1efc1@squarespace.com
DTSTAMP:20170317T082350Z
DTSTART:20170803T223000Z
DTEND:20170804T013000Z
SUMMARY:August Club Meeting
END:VEVENT
END:VCALENDAR
