BEGIN:VCALENDAR
VERSION:2.0
PRODID:-//Squarespace Inc/Squarespace 6//v6//EN
BEGIN:VEVENT
UID:58cb9c45893fc0b64d234ff3@squarespace.com
DTSTAMP:20170317T082101Z
DTSTART:20170916T123000Z
DTEND:20170917T193000Z
SUMMARY:Club Spring Show
END:VEVENT
END:VCALENDAR
