BEGIN:VCALENDAR
VERSION:2.0
PRODID:-//Squarespace Inc/Squarespace 6//v6//EN
BEGIN:VEVENT
UID:58cb9d1ec534a5c4f2f1f03c@squarespace.com
DTSTAMP:20170317T082418Z
DTSTART:20170907T223000Z
DTEND:20170908T013000Z
SUMMARY:September Club Meeting
END:VEVENT
END:VCALENDAR
