BEGIN:VCALENDAR
VERSION:2.0
PRODID:-//Squarespace Inc/Squarespace 6//v6//EN
BEGIN:VEVENT
UID:5a618ae50d9297aa9d968085@squarespace.com
DTSTAMP:20180119T060646Z
DTSTART:20181004T223000Z
DTEND:20181005T013000Z
SUMMARY:October Club Meeting
END:VEVENT
END:VCALENDAR
