BEGIN:VCALENDAR
VERSION:2.0
PRODID:-//Squarespace Inc/Squarespace 6//v6//EN
BEGIN:VEVENT
UID:5ba37f358a922d016ed98253@squarespace.com
DTSTAMP:20180920T110722Z
DTSTART:20181101T223000Z
DTEND:20181102T013000Z
SUMMARY:November Club Meeting
END:VEVENT
END:VCALENDAR
