BEGIN:VCALENDAR
VERSION:2.0
PRODID:-//Squarespace Inc/Squarespace 6//v6//EN
BEGIN:VEVENT
UID:5a618b1824a694dddab4380d@squarespace.com
DTSTAMP:20180119T060814Z
DTSTART:20181206T233000Z
DTEND:20181207T023000Z
SUMMARY:Annual Christmas Party and Presentation Night 
END:VEVENT
END:VCALENDAR
