BEGIN:VCALENDAR
VERSION:2.0
PRODID:-//Squarespace Inc/Squarespace 6//v6//EN
BEGIN:VEVENT
UID:5a6189d753450ab00529d5e5@squarespace.com
DTSTAMP:20180119T060232Z
DTSTART:20180201T233000Z
DTEND:20180202T023000Z
SUMMARY:February Club Meeting
END:VEVENT
END:VCALENDAR
