BEGIN:VCALENDAR
VERSION:2.0
PRODID:-//Squarespace Inc/Squarespace 6//v6//EN
BEGIN:VEVENT
UID:5a618a040d9297aa9d965e72@squarespace.com
DTSTAMP:20180119T060326Z
DTSTART:20180301T233000Z
DTEND:20180302T023000Z
SUMMARY:March Club Meeting
END:VEVENT
END:VCALENDAR
