BEGIN:VCALENDAR
VERSION:2.0
PRODID:-//Squarespace Inc/Squarespace 6//v6//EN
BEGIN:VEVENT
UID:5a618b9e53450ab0052a1488@squarespace.com
DTSTAMP:20180119T061012Z
DTSTART:20180415T110000Z
DTEND:20180415T190000Z
SUMMARY:Bunnings BBQ- Volunteers needed ! 
END:VEVENT
END:VCALENDAR
