BEGIN:VCALENDAR
VERSION:2.0
PRODID:-//Squarespace Inc/Squarespace 6//v6//EN
BEGIN:VEVENT
UID:5a618bf1e2c483c497342667@squarespace.com
DTSTAMP:20180119T061136Z
DTSTART:20180518T130000Z
DTEND:20180520T190000Z
SUMMARY:Orchids Out West
END:VEVENT
END:VCALENDAR
