BEGIN:VCALENDAR
VERSION:2.0
PRODID:-//Squarespace Inc/Squarespace 6//v6//EN
BEGIN:VEVENT
UID:5a618a659140b7807f5d328d@squarespace.com
DTSTAMP:20180119T060438Z
DTSTART:20180503T223000Z
DTEND:20180504T013000Z
SUMMARY:May Club Meeting
END:VEVENT
END:VCALENDAR
