BEGIN:VCALENDAR
VERSION:2.0
PRODID:-//Squarespace Inc/Squarespace 6//v6//EN
BEGIN:VEVENT
UID:5a618a83f9619a8d2cf783e9@squarespace.com
DTSTAMP:20180119T060510Z
DTSTART:20180607T223000Z
DTEND:20180608T013000Z
SUMMARY:June Club Meeting
END:VEVENT
END:VCALENDAR
