BEGIN:VCALENDAR
VERSION:2.0
PRODID:-//Squarespace Inc/Squarespace 6//v6//EN
BEGIN:VEVENT
UID:5a618c2a24a694dddab45d76@squarespace.com
DTSTAMP:20180119T061229Z
DTSTART:20180718T130000Z
DTEND:20180722T190000Z
SUMMARY:Orchids in the Foothills
END:VEVENT
END:VCALENDAR
