BEGIN:VCALENDAR
VERSION:2.0
PRODID:-//Squarespace Inc/Squarespace 6//v6//EN
BEGIN:VEVENT
UID:5a618a9e8165f505d990fb8f@squarespace.com
DTSTAMP:20180119T060534Z
DTSTART:20180705T223000Z
DTEND:20180706T013000Z
SUMMARY:July Club Meeting
END:VEVENT
END:VCALENDAR
