BEGIN:VCALENDAR
VERSION:2.0
PRODID:-//Squarespace Inc/Squarespace 6//v6//EN
BEGIN:VEVENT
UID:5a618d5cf9619a8d2cf7e82f@squarespace.com
DTSTAMP:20180119T061729Z
DTSTART:20180817T130000Z
DTEND:20180819T190000Z
SUMMARY:St Ives Orchid Show
END:VEVENT
END:VCALENDAR
