BEGIN:VCALENDAR
VERSION:2.0
PRODID:-//Squarespace Inc/Squarespace 6//v6//EN
BEGIN:VEVENT
UID:5a618ab68165f505d990fee9@squarespace.com
DTSTAMP:20180119T061252Z
DTSTART:20180802T223000Z
DTEND:20180803T013000Z
SUMMARY:August Club Meeting and Club Plant Auction! 
END:VEVENT
END:VCALENDAR
