BEGIN:VCALENDAR
VERSION:2.0
PRODID:-//Squarespace Inc/Squarespace 6//v6//EN
BEGIN:VEVENT
UID:5ba37f83c2241b80e97138a4@squarespace.com
DTSTAMP:20180920T110916Z
DTSTART:20180923T153000Z
DTEND:20180923T173000Z
SUMMARY:Social gathering- Picnic ! :) 
END:VEVENT
END:VCALENDAR
