BEGIN:VCALENDAR
VERSION:2.0
PRODID:-//Squarespace Inc/Squarespace 6//v6//EN
BEGIN:VEVENT
UID:5a618ace0852295a97307135@squarespace.com
DTSTAMP:20180119T060621Z
DTSTART:20180906T223000Z
DTEND:20180907T013000Z
SUMMARY:September Club Meeting
END:VEVENT
END:VCALENDAR
