BEGIN:VCALENDAR
VERSION:2.0
PRODID:-//Squarespace Inc/Squarespace 6//v6//EN
BEGIN:VEVENT
UID:5c3088821ae6cfe5e9d05df1@squarespace.com
DTSTAMP:20190105T103600Z
DTSTART:20191003T233000Z
DTEND:20191004T013000Z
SUMMARY:October Club Meeting
END:VEVENT
END:VCALENDAR
