BEGIN:VCALENDAR
VERSION:2.0
PRODID:-//Squarespace Inc/Squarespace 6//v6//EN
BEGIN:VEVENT
UID:5c308896898583102b6219a5@squarespace.com
DTSTAMP:20190105T103622Z
DTSTART:20191108T003000Z
DTEND:20191108T023000Z
SUMMARY:November Club Meeting
END:VEVENT
END:VCALENDAR
