BEGIN:VCALENDAR
VERSION:2.0
PRODID:-//Squarespace Inc/Squarespace 6//v6//EN
BEGIN:VEVENT
UID:5c3088adf950b7a898fb638f@squarespace.com
DTSTAMP:20190105T103701Z
DTSTART:20191206T003000Z
DTEND:20191206T023000Z
SUMMARY:December Xmas Party and Annual Presentation
END:VEVENT
END:VCALENDAR
