BEGIN:VCALENDAR
VERSION:2.0
PRODID:-//Squarespace Inc/Squarespace 6//v6//EN
BEGIN:VEVENT
UID:5c3087aa898583102b6214b0@squarespace.com
DTSTAMP:20190105T103236Z
DTSTART:20190404T233000Z
DTEND:20190405T013000Z
SUMMARY:April Club Meeting
END:VEVENT
END:VCALENDAR
