BEGIN:VCALENDAR
VERSION:2.0
PRODID:-//Squarespace Inc/Squarespace 6//v6//EN
BEGIN:VEVENT
UID:5c30877e88251b958f3e7858@squarespace.com
DTSTAMP:20190105T103301Z
DTSTART:20190502T233000Z
DTEND:20190503T013000Z
SUMMARY:May Club Meeting
END:VEVENT
END:VCALENDAR
