BEGIN:VCALENDAR
VERSION:2.0
PRODID:-//Squarespace Inc/Squarespace 6//v6//EN
BEGIN:VEVENT
UID:5c308716c2241ba8a7fec183@squarespace.com
DTSTAMP:20190105T103116Z
DTSTART:20190208T003000Z
DTEND:20190208T023000Z
SUMMARY:February Club Meeting
END:VEVENT
END:VCALENDAR
