BEGIN:VCALENDAR
VERSION:2.0
PRODID:-//Squarespace Inc/Squarespace 6//v6//EN
BEGIN:VEVENT
UID:5c3087fb4ae23783edab2c85@squarespace.com
DTSTAMP:20190105T103348Z
DTSTART:20190308T003000Z
DTEND:20190308T023000Z
SUMMARY:March Club Meeting
END:VEVENT
END:VCALENDAR
