BEGIN:VCALENDAR
VERSION:2.0
PRODID:-//Squarespace Inc/Squarespace 6//v6//EN
BEGIN:VEVENT
UID:5c6a5631a4222f337825e95e@squarespace.com
DTSTAMP:20190218T065337Z
DTSTART:20190406T110000Z
DTEND:20190406T200000Z
SUMMARY:Bunnings BBQ
END:VEVENT
END:VCALENDAR
