BEGIN:VCALENDAR
VERSION:2.0
PRODID:-//Squarespace Inc/Squarespace 6//v6//EN
BEGIN:VEVENT
UID:5c6a56ece79c705013eb332d@squarespace.com
DTSTAMP:20190218T065616Z
DTSTART:20190615T130000Z
DTEND:20190616T190000Z
SUMMARY:WINTER SHOW
END:VEVENT
END:VCALENDAR
