BEGIN:VCALENDAR
VERSION:2.0
PRODID:-//Squarespace Inc/Squarespace 6//v6//EN
BEGIN:VEVENT
UID:5c3088260ebbe80a256f6121@squarespace.com
DTSTAMP:20190105T103431Z
DTSTART:20190606T233000Z
DTEND:20190607T013000Z
SUMMARY:June Club Meeting
END:VEVENT
END:VCALENDAR
