BEGIN:VCALENDAR
VERSION:2.0
PRODID:-//Squarespace Inc/Squarespace 6//v6//EN
BEGIN:VEVENT
UID:5c30883e032be4fbaf1f2574@squarespace.com
DTSTAMP:20190105T103455Z
DTSTART:20190704T233000Z
DTEND:20190705T013000Z
SUMMARY:July Club Meeting
END:VEVENT
END:VCALENDAR
