BEGIN:VCALENDAR
VERSION:2.0
PRODID:-//Squarespace Inc/Squarespace 6//v6//EN
BEGIN:VEVENT
UID:5c3088562b6a28cb401bce5e@squarespace.com
DTSTAMP:20190105T103516Z
DTSTART:20190801T233000Z
DTEND:20190802T013000Z
SUMMARY:August Club Meeting
END:VEVENT
END:VCALENDAR
