BEGIN:VCALENDAR
VERSION:2.0
PRODID:-//Squarespace Inc/Squarespace 6//v6//EN
BEGIN:VEVENT
UID:5c6a5719f4e1fcbaed8abd38@squarespace.com
DTSTAMP:20190218T065732Z
DTSTART:20190816T130000Z
DTEND:20190818T190000Z
SUMMARY:St Ives Orchid Show- The Big One !
END:VEVENT
END:VCALENDAR
