BEGIN:VCALENDAR
VERSION:2.0
PRODID:-//Squarespace Inc/Squarespace 6//v6//EN
BEGIN:VEVENT
UID:5c6a5764e79c705013eb3518@squarespace.com
DTSTAMP:20190218T065814Z
DTSTART:20190914T130000Z
DTEND:20190915T190000Z
SUMMARY:SPRING SHOW
END:VEVENT
END:VCALENDAR
