BEGIN:VCALENDAR
VERSION:2.0
PRODID:-//Squarespace Inc/Squarespace 6//v6//EN
BEGIN:VEVENT
UID:5c30886c032be4fbaf1f2684@squarespace.com
DTSTAMP:20190105T103539Z
DTSTART:20190905T233000Z
DTEND:20190906T013000Z
SUMMARY:September Club Meeting
END:VEVENT
END:VCALENDAR
